Package: ggbio Version: 1.57.0 Command: /home/rapidbuild/bbs-3.22-bioc-rapid/R/bin/R CMD build --keep-empty-dirs --no-resave-data ggbio StartedAt: 2025-06-17 19:00:07 -0400 (Tue, 17 Jun 2025) EndedAt: 2025-06-17 19:04:17 -0400 (Tue, 17 Jun 2025) EllapsedTime: 250.4 seconds RetCode: 0 Status: OK PackageFile: ggbio_1.57.0.tar.gz PackageFileSize: 3.096 MiB