Package: ggcyto Version: 1.37.0 Command: /home/rapidbuild/bbs-3.22-bioc-rapid/R/bin/R CMD build --keep-empty-dirs --no-resave-data ggcyto StartedAt: 2025-06-17 19:00:41 -0400 (Tue, 17 Jun 2025) EndedAt: 2025-06-17 19:02:12 -0400 (Tue, 17 Jun 2025) EllapsedTime: 91.1 seconds RetCode: 0 Status: OK PackageFile: ggcyto_1.37.0.tar.gz PackageFileSize: 21.38 MiB