Package: ggtree Version: 3.17.0 Command: /home/rapidbuild/bbs-3.22-bioc-rapid/R/bin/R CMD check --install=check:ggtree.install-out.txt --library=/home/rapidbuild/bbs-3.22-bioc-rapid/R/site-library --timings ggtree_3.17.0.tar.gz StartedAt: 2025-06-17 20:54:09 -0400 (Tue, 17 Jun 2025) EndedAt: 2025-06-17 20:55:05 -0400 (Tue, 17 Jun 2025) EllapsedTime: 56.0 seconds RetCode: 0 Status: OK CheckDir: ggtree.Rcheck Warnings: 0