Package: gpls Version: 1.81.0 Command: /home/rapidbuild/bbs-3.22-bioc-rapid/R/bin/R CMD check --install=check:gpls.install-out.txt --library=/home/rapidbuild/bbs-3.22-bioc-rapid/R/site-library --timings gpls_1.81.0.tar.gz StartedAt: 2025-06-17 20:55:54 -0400 (Tue, 17 Jun 2025) EndedAt: 2025-06-17 20:56:21 -0400 (Tue, 17 Jun 2025) EllapsedTime: 27.0 seconds RetCode: 0 Status: WARNINGS CheckDir: gpls.Rcheck Warnings: 1