Package: graph Version: 1.87.0 Command: /home/rapidbuild/bbs-3.22-bioc-rapid/R/bin/R CMD INSTALL graph StartedAt: 2025-06-17 18:11:15 -0400 (Tue, 17 Jun 2025) EndedAt: 2025-06-17 18:11:27 -0400 (Tue, 17 Jun 2025) EllapsedTime: 11.5 seconds RetCode: 0 Status: OK