Package: gypsum Version: 1.5.0 Maintainer: Aaron Lun MaintainerEmail: infinite.monkeys.with.keyboards at gmail.com git_url: https://git.bioconductor.org/packages/gypsum git_branch: devel git_last_commit: 205fc42 git_last_commit_date: 2025-04-15 13:28:20 -0400 (Tue, 15 Apr 2025)