Package: gypsum Version: 1.5.0 Command: /home/rapidbuild/bbs-3.22-bioc-rapid/R/bin/R CMD INSTALL gypsum StartedAt: 2025-06-17 18:13:38 -0400 (Tue, 17 Jun 2025) EndedAt: 2025-06-17 18:13:41 -0400 (Tue, 17 Jun 2025) EllapsedTime: 3.2 seconds RetCode: 0 Status: OK