Package: h5mread Version: 1.1.1 Command: /home/rapidbuild/bbs-3.22-bioc-rapid/R/bin/R CMD INSTALL h5mread StartedAt: 2025-06-17 18:14:10 -0400 (Tue, 17 Jun 2025) EndedAt: 2025-06-17 18:14:31 -0400 (Tue, 17 Jun 2025) EllapsedTime: 21.5 seconds RetCode: 0 Status: OK