Package: hpar Version: 1.51.0 Command: /home/rapidbuild/bbs-3.22-bioc-rapid/R/bin/R CMD build --keep-empty-dirs --no-resave-data hpar StartedAt: 2025-06-17 19:07:38 -0400 (Tue, 17 Jun 2025) EndedAt: 2025-06-17 19:08:10 -0400 (Tue, 17 Jun 2025) EllapsedTime: 32.0 seconds RetCode: 0 Status: OK PackageFile: hpar_1.51.0.tar.gz PackageFileSize: 885.3 KiB