Package: interactiveDisplayBase Version: 1.47.0 Command: /home/rapidbuild/bbs-3.22-bioc-rapid/R/bin/R CMD check --install=check:interactiveDisplayBase.install-out.txt --library=/home/rapidbuild/bbs-3.22-bioc-rapid/R/site-library --timings interactiveDisplayBase_1.47.0.tar.gz StartedAt: 2025-06-17 21:05:15 -0400 (Tue, 17 Jun 2025) EndedAt: 2025-06-17 21:05:47 -0400 (Tue, 17 Jun 2025) EllapsedTime: 32.3 seconds RetCode: 0 Status: OK CheckDir: interactiveDisplayBase.Rcheck Warnings: 0