Package: karyoploteR Version: 1.35.2 Command: /home/rapidbuild/bbs-3.22-bioc-rapid/R/bin/R CMD build --keep-empty-dirs --no-resave-data karyoploteR StartedAt: 2025-06-17 19:10:00 -0400 (Tue, 17 Jun 2025) EndedAt: 2025-06-17 19:11:31 -0400 (Tue, 17 Jun 2025) EllapsedTime: 90.6 seconds RetCode: 0 Status: OK PackageFile: karyoploteR_1.35.2.tar.gz PackageFileSize: 2.568 MiB