Package: limma Version: 3.65.1 Command: /home/rapidbuild/bbs-3.22-bioc-rapid/R/bin/R CMD build --keep-empty-dirs --no-resave-data limma StartedAt: 2025-06-17 19:11:14 -0400 (Tue, 17 Jun 2025) EndedAt: 2025-06-17 19:11:33 -0400 (Tue, 17 Jun 2025) EllapsedTime: 19.6 seconds RetCode: 0 Status: OK PackageFile: limma_3.65.1.tar.gz PackageFileSize: 2.714 MiB