Package: limma Version: 3.65.1 Command: /home/rapidbuild/bbs-3.22-bioc-rapid/R/bin/R CMD INSTALL limma StartedAt: 2025-06-17 18:09:56 -0400 (Tue, 17 Jun 2025) EndedAt: 2025-06-17 18:10:07 -0400 (Tue, 17 Jun 2025) EllapsedTime: 11.4 seconds RetCode: 0 Status: OK