Package: lpsymphony Version: 1.37.0 Command: /home/rapidbuild/bbs-3.22-bioc-rapid/R/bin/R CMD build --keep-empty-dirs --no-resave-data lpsymphony StartedAt: 2025-06-17 19:11:31 -0400 (Tue, 17 Jun 2025) EndedAt: 2025-06-17 19:19:17 -0400 (Tue, 17 Jun 2025) EllapsedTime: 465.7 seconds RetCode: 0 Status: OK PackageFile: lpsymphony_1.37.0.tar.gz PackageFileSize: 11.86 MiB