Package: maftools Version: 2.25.10 Command: /home/rapidbuild/bbs-3.22-bioc-rapid/R/bin/R CMD INSTALL maftools StartedAt: 2025-06-17 18:15:53 -0400 (Tue, 17 Jun 2025) EndedAt: 2025-06-17 18:16:07 -0400 (Tue, 17 Jun 2025) EllapsedTime: 13.5 seconds RetCode: 0 Status: OK