Package: metapod Version: 1.17.0 Command: /home/rapidbuild/bbs-3.22-bioc-rapid/R/bin/R CMD build --keep-empty-dirs --no-resave-data metapod StartedAt: 2025-06-17 19:14:28 -0400 (Tue, 17 Jun 2025) EndedAt: 2025-06-17 19:14:49 -0400 (Tue, 17 Jun 2025) EllapsedTime: 21.0 seconds RetCode: 0 Status: OK PackageFile: metapod_1.17.0.tar.gz PackageFileSize: 323.9 KiB