Package: metapod Version: 1.17.0 Command: /home/rapidbuild/bbs-3.22-bioc-rapid/R/bin/R CMD INSTALL metapod StartedAt: 2025-06-17 18:10:01 -0400 (Tue, 17 Jun 2025) EndedAt: 2025-06-17 18:10:20 -0400 (Tue, 17 Jun 2025) EllapsedTime: 19.4 seconds RetCode: 0 Status: OK