Package: microRNA Version: 1.67.0 Command: /home/rapidbuild/bbs-3.22-bioc-rapid/R/bin/R CMD build --keep-empty-dirs --no-resave-data microRNA StartedAt: 2025-06-17 19:14:49 -0400 (Tue, 17 Jun 2025) EndedAt: 2025-06-17 19:14:52 -0400 (Tue, 17 Jun 2025) EllapsedTime: 3.0 seconds RetCode: 0 Status: OK PackageFile: microRNA_1.67.0.tar.gz PackageFileSize: 5.743 MiB