Package: microRNA Version: 1.67.0 Command: /home/rapidbuild/bbs-3.22-bioc-rapid/R/bin/R CMD INSTALL microRNA StartedAt: 2025-06-17 18:18:18 -0400 (Tue, 17 Jun 2025) EndedAt: 2025-06-17 18:18:28 -0400 (Tue, 17 Jun 2025) EllapsedTime: 9.4 seconds RetCode: 0 Status: OK