Package: minet Version: 3.67.0 Command: /home/rapidbuild/bbs-3.22-bioc-rapid/R/bin/R CMD build --keep-empty-dirs --no-resave-data minet StartedAt: 2025-06-17 19:14:52 -0400 (Tue, 17 Jun 2025) EndedAt: 2025-06-17 19:14:53 -0400 (Tue, 17 Jun 2025) EllapsedTime: 1.0 seconds RetCode: 0 Status: OK PackageFile: minet_3.67.0.tar.gz PackageFileSize: 50.12 KiB