Package: minet Version: 3.67.0 Command: /home/rapidbuild/bbs-3.22-bioc-rapid/R/bin/R CMD INSTALL minet StartedAt: 2025-06-17 18:04:45 -0400 (Tue, 17 Jun 2025) EndedAt: 2025-06-17 18:04:50 -0400 (Tue, 17 Jun 2025) EllapsedTime: 5.2 seconds RetCode: 0 Status: OK