Package: mzID Version: 1.47.0 Maintainer: Laurent Gatto MaintainerEmail: laurent.gatto at uclouvain.be git_url: https://git.bioconductor.org/packages/mzID git_branch: devel git_last_commit: b8521dd git_last_commit_date: 2025-04-15 10:26:24 -0400 (Tue, 15 Apr 2025)