Package: mzID Version: 1.47.0 Command: /home/rapidbuild/bbs-3.22-bioc-rapid/R/bin/R CMD build --keep-empty-dirs --no-resave-data mzID StartedAt: 2025-06-17 19:19:19 -0400 (Tue, 17 Jun 2025) EndedAt: 2025-06-17 19:19:26 -0400 (Tue, 17 Jun 2025) EllapsedTime: 7.0 seconds RetCode: 0 Status: OK PackageFile: mzID_1.47.0.tar.gz PackageFileSize: 581.9 KiB