Package: ncdfFlow Version: 2.55.0 Command: /home/rapidbuild/bbs-3.22-bioc-rapid/R/bin/R CMD check --install=check:ncdfFlow.install-out.txt --library=/home/rapidbuild/bbs-3.22-bioc-rapid/R/site-library --timings ncdfFlow_2.55.0.tar.gz StartedAt: 2025-06-17 21:19:07 -0400 (Tue, 17 Jun 2025) EndedAt: 2025-06-17 21:20:36 -0400 (Tue, 17 Jun 2025) EllapsedTime: 89.3 seconds RetCode: 0 Status: WARNINGS CheckDir: ncdfFlow.Rcheck Warnings: 3