Package: ncdfFlow Version: 2.55.0 Command: /home/rapidbuild/bbs-3.22-bioc-rapid/R/bin/R CMD INSTALL ncdfFlow StartedAt: 2025-06-17 18:13:04 -0400 (Tue, 17 Jun 2025) EndedAt: 2025-06-17 18:13:14 -0400 (Tue, 17 Jun 2025) EllapsedTime: 10.5 seconds RetCode: 0 Status: OK