Package: openCyto Version: 2.21.0 Command: /home/rapidbuild/bbs-3.22-bioc-rapid/R/bin/R CMD build --keep-empty-dirs --no-resave-data openCyto StartedAt: 2025-06-17 19:20:29 -0400 (Tue, 17 Jun 2025) EndedAt: 2025-06-17 19:21:29 -0400 (Tue, 17 Jun 2025) EllapsedTime: 60.6 seconds RetCode: 0 Status: OK PackageFile: openCyto_2.21.0.tar.gz PackageFileSize: 1.767 MiB