Package: openCyto Version: 2.21.0 Command: /home/rapidbuild/bbs-3.22-bioc-rapid/R/bin/R CMD INSTALL openCyto StartedAt: 2025-06-17 18:18:39 -0400 (Tue, 17 Jun 2025) EndedAt: 2025-06-17 18:19:05 -0400 (Tue, 17 Jun 2025) EllapsedTime: 25.9 seconds RetCode: 0 Status: OK