Package: pRoloc Version: 1.49.0 Command: /home/rapidbuild/bbs-3.22-bioc-rapid/R/bin/R CMD check --install=check:pRoloc.install-out.txt --library=/home/rapidbuild/bbs-3.22-bioc-rapid/R/site-library --timings pRoloc_1.49.0.tar.gz StartedAt: 2025-06-17 21:22:33 -0400 (Tue, 17 Jun 2025) EndedAt: 2025-06-17 21:33:53 -0400 (Tue, 17 Jun 2025) EllapsedTime: 680.0 seconds RetCode: 0 Status: WARNINGS CheckDir: pRoloc.Rcheck Warnings: 1