Package: pathview Version: 1.49.0 Command: /home/rapidbuild/bbs-3.22-bioc-rapid/R/bin/R CMD build --keep-empty-dirs --no-resave-data pathview StartedAt: 2025-06-17 19:21:00 -0400 (Tue, 17 Jun 2025) EndedAt: 2025-06-17 19:22:02 -0400 (Tue, 17 Jun 2025) EllapsedTime: 61.6 seconds RetCode: 0 Status: OK PackageFile: pathview_1.49.0.tar.gz PackageFileSize: 2.564 MiB