Package: pathview Version: 1.49.0 Command: /home/rapidbuild/bbs-3.22-bioc-rapid/R/bin/R CMD INSTALL pathview StartedAt: 2025-06-17 18:24:06 -0400 (Tue, 17 Jun 2025) EndedAt: 2025-06-17 18:24:27 -0400 (Tue, 17 Jun 2025) EllapsedTime: 21.7 seconds RetCode: 0 Status: OK