Package: phyloseq Version: 1.53.0 Command: /home/rapidbuild/bbs-3.22-bioc-rapid/R/bin/R CMD build --keep-empty-dirs --no-resave-data phyloseq StartedAt: 2025-06-17 19:21:46 -0400 (Tue, 17 Jun 2025) EndedAt: 2025-06-17 19:23:06 -0400 (Tue, 17 Jun 2025) EllapsedTime: 80.3 seconds RetCode: 0 Status: OK PackageFile: phyloseq_1.53.0.tar.gz PackageFileSize: 6.095 MiB