Package: phyloseq Version: 1.53.0 Command: /home/rapidbuild/bbs-3.22-bioc-rapid/R/bin/R CMD check --install=check:phyloseq.install-out.txt --library=/home/rapidbuild/bbs-3.22-bioc-rapid/R/site-library --timings phyloseq_1.53.0.tar.gz StartedAt: 2025-06-17 21:21:33 -0400 (Tue, 17 Jun 2025) EndedAt: 2025-06-17 21:26:25 -0400 (Tue, 17 Jun 2025) EllapsedTime: 291.7 seconds RetCode: 0 Status: WARNINGS CheckDir: phyloseq.Rcheck Warnings: 1