Package: preprocessCore Version: 1.71.0 Command: /home/rapidbuild/bbs-3.22-bioc-rapid/R/bin/R CMD check --install=check:preprocessCore.install-out.txt --library=/home/rapidbuild/bbs-3.22-bioc-rapid/R/site-library --timings preprocessCore_1.71.0.tar.gz StartedAt: 2025-06-17 21:22:15 -0400 (Tue, 17 Jun 2025) EndedAt: 2025-06-17 21:22:32 -0400 (Tue, 17 Jun 2025) EllapsedTime: 17.0 seconds RetCode: 0 Status: WARNINGS CheckDir: preprocessCore.Rcheck Warnings: 2