Package: qvalue Version: 2.41.0 Command: /home/rapidbuild/bbs-3.22-bioc-rapid/R/bin/R CMD build --keep-empty-dirs --no-resave-data qvalue StartedAt: 2025-06-17 19:24:03 -0400 (Tue, 17 Jun 2025) EndedAt: 2025-06-17 19:24:14 -0400 (Tue, 17 Jun 2025) EllapsedTime: 11.0 seconds RetCode: 0 Status: OK PackageFile: qvalue_2.41.0.tar.gz PackageFileSize: 2.645 MiB