Package: qvalue Version: 2.41.0 Command: /home/rapidbuild/bbs-3.22-bioc-rapid/R/bin/R CMD INSTALL qvalue StartedAt: 2025-06-17 18:16:20 -0400 (Tue, 17 Jun 2025) EndedAt: 2025-06-17 18:16:26 -0400 (Tue, 17 Jun 2025) EllapsedTime: 6.0 seconds RetCode: 0 Status: OK