Package: rBiopaxParser Version: 2.49.0 Command: /home/rapidbuild/bbs-3.22-bioc-rapid/R/bin/R CMD build --keep-empty-dirs --no-resave-data rBiopaxParser StartedAt: 2025-06-17 19:25:44 -0400 (Tue, 17 Jun 2025) EndedAt: 2025-06-17 19:25:51 -0400 (Tue, 17 Jun 2025) EllapsedTime: 7.3 seconds RetCode: 0 Status: OK PackageFile: rBiopaxParser_2.49.0.tar.gz PackageFileSize: 897.1 KiB