Package: rBiopaxParser Version: 2.49.0 Command: /home/rapidbuild/bbs-3.22-bioc-rapid/R/bin/R CMD INSTALL rBiopaxParser StartedAt: 2025-06-17 18:11:12 -0400 (Tue, 17 Jun 2025) EndedAt: 2025-06-17 18:11:15 -0400 (Tue, 17 Jun 2025) EllapsedTime: 3.2 seconds RetCode: 0 Status: OK