Package: regioneR Version: 1.41.2 Maintainer: Bernat Gel MaintainerEmail: bgel at imppc.org git_url: https://git.bioconductor.org/packages/regioneR git_branch: devel git_last_commit: 6a3d22e git_last_commit_date: 2025-05-27 09:03:18 -0400 (Tue, 27 May 2025)