Package: rhdf5 Version: 2.53.1 Command: /home/rapidbuild/bbs-3.22-bioc-rapid/R/bin/R CMD INSTALL rhdf5 StartedAt: 2025-06-17 18:09:16 -0400 (Tue, 17 Jun 2025) EndedAt: 2025-06-17 18:09:26 -0400 (Tue, 17 Jun 2025) EllapsedTime: 9.5 seconds RetCode: 0 Status: OK