Package: rhdf5filters Version: 1.21.0 Maintainer: Mike Smith MaintainerEmail: grimbough at gmail.com git_url: https://git.bioconductor.org/packages/rhdf5filters git_branch: devel git_last_commit: a4f274e git_last_commit_date: 2025-04-15 11:55:37 -0400 (Tue, 15 Apr 2025)