Package: rols Version: 3.5.0 Maintainer: Laurent Gatto MaintainerEmail: laurent.gatto at uclouvain.be git_url: https://git.bioconductor.org/packages/rols git_branch: devel git_last_commit: 960374a git_last_commit_date: 2025-04-15 10:14:02 -0400 (Tue, 15 Apr 2025)