Package: rols Version: 3.5.0 Command: /home/rapidbuild/bbs-3.22-bioc-rapid/R/bin/R CMD build --keep-empty-dirs --no-resave-data rols StartedAt: 2025-06-17 19:29:58 -0400 (Tue, 17 Jun 2025) EndedAt: 2025-06-17 19:30:27 -0400 (Tue, 17 Jun 2025) EllapsedTime: 29.3 seconds RetCode: 0 Status: OK PackageFile: rols_3.5.0.tar.gz PackageFileSize: 389.9 KiB