Package: rtracklayer Version: 1.69.0 Command: /home/rapidbuild/bbs-3.22-bioc-rapid/R/bin/R CMD build --keep-empty-dirs --no-resave-data rtracklayer StartedAt: 2025-06-17 19:32:16 -0400 (Tue, 17 Jun 2025) EndedAt: 2025-06-17 19:33:25 -0400 (Tue, 17 Jun 2025) EllapsedTime: 69.6 seconds RetCode: 0 Status: OK PackageFile: rtracklayer_1.69.0.tar.gz PackageFileSize: 3.897 MiB