Package: rtracklayer Version: 1.69.0 Command: /home/rapidbuild/bbs-3.22-bioc-rapid/R/bin/R CMD INSTALL rtracklayer StartedAt: 2025-06-17 18:25:19 -0400 (Tue, 17 Jun 2025) EndedAt: 2025-06-17 18:26:14 -0400 (Tue, 17 Jun 2025) EllapsedTime: 55.1 seconds RetCode: 0 Status: OK