Package: scater Version: 1.37.0 Command: /home/rapidbuild/bbs-3.22-bioc-rapid/R/bin/R CMD build --keep-empty-dirs --no-resave-data scater StartedAt: 2025-06-17 19:33:40 -0400 (Tue, 17 Jun 2025) EndedAt: 2025-06-17 19:35:35 -0400 (Tue, 17 Jun 2025) EllapsedTime: 115.7 seconds RetCode: 0 Status: OK PackageFile: scater_1.37.0.tar.gz PackageFileSize: 4.422 MiB