Package: scater Version: 1.37.0 Command: /home/rapidbuild/bbs-3.22-bioc-rapid/R/bin/R CMD INSTALL scater StartedAt: 2025-06-17 18:22:59 -0400 (Tue, 17 Jun 2025) EndedAt: 2025-06-17 18:23:33 -0400 (Tue, 17 Jun 2025) EllapsedTime: 33.7 seconds RetCode: 0 Status: OK