Package: scrapper Version: 1.3.4 Command: /home/rapidbuild/bbs-3.22-bioc-rapid/R/bin/R CMD build --keep-empty-dirs --no-resave-data scrapper StartedAt: 2025-06-17 19:35:23 -0400 (Tue, 17 Jun 2025) EndedAt: 2025-06-17 19:42:37 -0400 (Tue, 17 Jun 2025) EllapsedTime: 433.8 seconds RetCode: 0 Status: OK PackageFile: scrapper_1.3.4.tar.gz PackageFileSize: 868.3 KiB