Package: scuttle Version: 1.19.0 Command: /home/rapidbuild/bbs-3.22-bioc-rapid/R/bin/R CMD check --install=check:scuttle.install-out.txt --library=/home/rapidbuild/bbs-3.22-bioc-rapid/R/site-library --timings scuttle_1.19.0.tar.gz StartedAt: 2025-06-17 21:42:07 -0400 (Tue, 17 Jun 2025) EndedAt: 2025-06-17 21:50:05 -0400 (Tue, 17 Jun 2025) EllapsedTime: 478.4 seconds RetCode: 0 Status: OK CheckDir: scuttle.Rcheck Warnings: 0