Package: seqLogo Version: 1.75.0 Command: /home/rapidbuild/bbs-3.22-bioc-rapid/R/bin/R CMD build --keep-empty-dirs --no-resave-data seqLogo StartedAt: 2025-06-17 19:37:14 -0400 (Tue, 17 Jun 2025) EndedAt: 2025-06-17 19:37:19 -0400 (Tue, 17 Jun 2025) EllapsedTime: 5.0 seconds RetCode: 0 Status: OK PackageFile: seqLogo_1.75.0.tar.gz PackageFileSize: 919 KiB