Package: seqLogo Version: 1.75.0 Command: /home/rapidbuild/bbs-3.22-bioc-rapid/R/bin/R CMD INSTALL seqLogo StartedAt: 2025-06-17 18:11:17 -0400 (Tue, 17 Jun 2025) EndedAt: 2025-06-17 18:11:21 -0400 (Tue, 17 Jun 2025) EllapsedTime: 4.0 seconds RetCode: 0 Status: OK